BEGIN:VCALENDAR
VERSION:2.0
PRODID:-//Squarespace Inc/Squarespace 6//v6//EN
BEGIN:VEVENT
UID:5d098c732c88210001eb7d4c@squarespace.com
DTSTAMP:20190619T011652Z
DTSTART:20200128T200000Z
DTEND:20200130T020000Z
SUMMARY:Year 7  &amp\; New Year 8 Parent/Teacher/Student Conferences
END:VEVENT
END:VCALENDAR
