BEGIN:VCALENDAR
VERSION:2.0
PRODID:-//Squarespace Inc/Squarespace 6//v6//EN
BEGIN:VEVENT
UID:5d098c45a2492800011159ee@squarespace.com
DTSTAMP:20190619T011415Z
DTSTART:20200119T200000Z
DTEND:20200120T040000Z
SUMMARY:Wellington Anniversary
END:VEVENT
END:VCALENDAR
