BEGIN:VCALENDAR
VERSION:2.0
PRODID:-//Squarespace Inc/Squarespace 6//v6//EN
BEGIN:VEVENT
UID:5c50b00b4ae237e26d90bc76@squarespace.com
DTSTAMP:20190129T195925Z
DTSTART:20190604T210000Z
DTEND:20190605T030000Z
SUMMARY:Super Sport Badminton
END:VEVENT
END:VCALENDAR
