BEGIN:VCALENDAR
VERSION:2.0
PRODID:-//Squarespace Inc/Squarespace 6//v6//EN
BEGIN:VEVENT
UID:5d086097650288000183931f@squarespace.com
DTSTAMP:20190618T035544Z
DTSTART:20190625T200000Z
DTEND:20190625T210000Z
SUMMARY:Vision Testing Year 7s
END:VEVENT
END:VCALENDAR
