BEGIN:VCALENDAR
VERSION:2.0
PRODID:-//Squarespace Inc/Squarespace 6//v6//EN
BEGIN:VEVENT
UID:5d0860c99b006500014958ba@squarespace.com
DTSTAMP:20190618T035603Z
DTSTART:20190626T070000Z
DTEND:20190626T090000Z
SUMMARY:School Dance
END:VEVENT
END:VCALENDAR
