BEGIN:VCALENDAR
VERSION:2.0
PRODID:-//Squarespace Inc/Squarespace 6//v6//EN
BEGIN:VEVENT
UID:5d08611f23ffb700019de2c3@squarespace.com
DTSTAMP:20190625T223040Z
DTSTART:20190626T060000Z
DTEND:20190626T063000Z
SUMMARY:Manawanui Camp Parent Meeting 
END:VEVENT
END:VCALENDAR
