BEGIN:VCALENDAR
VERSION:2.0
PRODID:-//Squarespace Inc/Squarespace 6//v6//EN
BEGIN:VEVENT
UID:5d086073533eeb0001d4e18d@squarespace.com
DTSTAMP:20190618T035452Z
DTSTART:20190619T200000Z
DTEND:20190619T210000Z
SUMMARY:Super Arts Drama
END:VEVENT
END:VCALENDAR
