BEGIN:VCALENDAR
VERSION:2.0
PRODID:-//Squarespace Inc/Squarespace 6//v6//EN
BEGIN:VEVENT
UID:5c50b0a72b6a28d97e090583@squarespace.com
DTSTAMP:20190129T200006Z
DTSTART:20190618T210000Z
DTEND:20190619T030000Z
SUMMARY:Super Sport Basketball
END:VEVENT
END:VCALENDAR
