BEGIN:VCALENDAR
VERSION:2.0
PRODID:-//Squarespace Inc/Squarespace 6//v6//EN
BEGIN:VEVENT
UID:5c50af611ae6cfc9d6ac85ce@squarespace.com
DTSTAMP:20190129T195438Z
DTSTART:20190507T210000Z
DTEND:20190508T030000Z
SUMMARY:Super Sport Hockey
END:VEVENT
END:VCALENDAR
