BEGIN:VCALENDAR
VERSION:2.0
PRODID:-//Squarespace Inc/Squarespace 6//v6//EN
BEGIN:VEVENT
UID:5ccba0049d8d170001f4f4bb@squarespace.com
DTSTAMP:20190503T015759Z
DTSTART:20190506T210000Z
DTEND:20190506T220000Z
SUMMARY:First Voice
END:VEVENT
END:VCALENDAR
