BEGIN:VCALENDAR
VERSION:2.0
PRODID:-//Squarespace Inc/Squarespace 6//v6//EN
BEGIN:VEVENT
UID:5ceb378eb208fc0bb15e73f3@squarespace.com
DTSTAMP:20190528T004541Z
DTSTART:20190528T180000Z
DTEND:20190529T070000Z
SUMMARY:Strike
END:VEVENT
END:VCALENDAR
