BEGIN:VCALENDAR
VERSION:2.0
PRODID:-//Squarespace Inc/Squarespace 6//v6//EN
BEGIN:VEVENT
UID:5c50af892b6a28d97e08f3ef@squarespace.com
DTSTAMP:20190129T195647Z
DTSTART:20190521T210000Z
DTEND:20190522T030000Z
SUMMARY:Super Sport Volleyball
END:VEVENT
END:VCALENDAR
