BEGIN:VCALENDAR
VERSION:2.0
PRODID:-//Squarespace Inc/Squarespace 6//v6//EN
BEGIN:VEVENT
UID:5c8b044b6e9a7f1b0aa2b278@squarespace.com
DTSTAMP:20190315T014907Z
DTSTART:20190403T200000Z
DTEND:20190403T230000Z
SUMMARY:Winter Sport Trials - Hockey
END:VEVENT
END:VCALENDAR
