BEGIN:VCALENDAR
VERSION:2.0
PRODID:-//Squarespace Inc/Squarespace 6//v6//EN
BEGIN:VEVENT
UID:5c8b049941920225d54eac19@squarespace.com
DTSTAMP:20190315T014944Z
DTSTART:20190404T200000Z
DTEND:20190404T230000Z
SUMMARY:Winter Sport Trials - Netball and Basketball
END:VEVENT
END:VCALENDAR
