BEGIN:VCALENDAR
VERSION:2.0
PRODID:-//Squarespace Inc/Squarespace 6//v6//EN
BEGIN:VEVENT
UID:5c50aed84fa51a1a39008d26@squarespace.com
DTSTAMP:20190204T202305Z
DTSTART:20190319T200000Z
DTEND:20190320T020000Z
SUMMARY:Super Sport Cricket
END:VEVENT
END:VCALENDAR
