BEGIN:VCALENDAR
VERSION:2.0
PRODID:-//Squarespace Inc/Squarespace 6//v6//EN
BEGIN:VEVENT
UID:5cad2124a4222fb6b7916f41@squarespace.com
DTSTAMP:20190409T224928Z
DTSTART:20190428T210000Z
DTEND:20190503T030000Z
SUMMARY:Mary Poppins Jr Auditions 
END:VEVENT
END:VCALENDAR
