BEGIN:VCALENDAR
VERSION:2.0
PRODID:-//Squarespace Inc/Squarespace 6//v6//EN
BEGIN:VEVENT
UID:5c36d7304fa51a22966c02ef@squarespace.com
DTSTAMP:20190110T052534Z
DTSTART:20190308T193000Z
DTEND:20190309T133000Z
SUMMARY:Relay for Life
END:VEVENT
END:VCALENDAR
