BEGIN:VCALENDAR
VERSION:2.0
PRODID:-//Squarespace Inc/Squarespace 6//v6//EN
BEGIN:VEVENT
UID:5c7ee2dbeb39315264894d74@squarespace.com
DTSTAMP:20190305T205820Z
DTSTART:20190306T190000Z
DTEND:20190307T020000Z
SUMMARY:Mufti Day
END:VEVENT
END:VCALENDAR
