BEGIN:VCALENDAR
VERSION:2.0
PRODID:-//Squarespace Inc/Squarespace 6//v6//EN
BEGIN:VEVENT
UID:5c50ae0b0e2e72a135cf08c2@squarespace.com
DTSTAMP:20190226T200016Z
DTSTART:20190321T200000Z
DTEND:20190322T020000Z
SUMMARY:Super Sport Tennis
END:VEVENT
END:VCALENDAR
