BEGIN:VCALENDAR
VERSION:2.0
PRODID:-//Squarespace Inc/Squarespace 6//v6//EN
BEGIN:VEVENT
UID:5c50b3007924e829e7f31896@squarespace.com
DTSTAMP:20190129T201021Z
DTSTART:20190325T200000Z
DTEND:20190326T020000Z
SUMMARY:Road Race
END:VEVENT
END:VCALENDAR
