BEGIN:VCALENDAR
VERSION:2.0
PRODID:-//Squarespace Inc/Squarespace 6//v6//EN
BEGIN:VEVENT
UID:5c537f9a4785d31a3476921b@squarespace.com
DTSTAMP:20190131T230810Z
DTSTART:20190302T080000Z
DTEND:20190303T050000Z
SUMMARY:Gordon Tietjens 7's
END:VEVENT
END:VCALENDAR
