BEGIN:VCALENDAR
VERSION:2.0
PRODID:-//Squarespace Inc/Squarespace 6//v6//EN
BEGIN:VEVENT
UID:5c50b33803ce64a97efa13af@squarespace.com
DTSTAMP:20190129T201231Z
DTSTART:20190318T200000Z
DTEND:20190319T020000Z
SUMMARY:Weetbix Tri
END:VEVENT
END:VCALENDAR
