BEGIN:VCALENDAR
VERSION:2.0
PRODID:-//Squarespace Inc/Squarespace 6//v6//EN
BEGIN:VEVENT
UID:5c50b3bd03ce64a97efa1ae1@squarespace.com
DTSTAMP:20190129T201400Z
DTSTART:20190312T200000Z
DTEND:20190313T020000Z
SUMMARY:Inter School Tri
END:VEVENT
END:VCALENDAR
