BEGIN:VCALENDAR
VERSION:2.0
PRODID:-//Squarespace Inc/Squarespace 6//v6//EN
BEGIN:VEVENT
UID:5c36d7874ae237d59a18ba18@squarespace.com
DTSTAMP:20190110T052711Z
DTSTART:20190311T194500Z
DTEND:20190313T020000Z
SUMMARY:HPV/Dtap injections - Y7
END:VEVENT
END:VCALENDAR
