BEGIN:VCALENDAR
VERSION:2.0
PRODID:-//Squarespace Inc/Squarespace 6//v6//EN
BEGIN:VEVENT
UID:5c36d6ebc2241b020e9eba39@squarespace.com
DTSTAMP:20190110T052431Z
DTSTART:20190301T080000Z
DTEND:20190301T090000Z
SUMMARY:Swimming Sports
END:VEVENT
END:VCALENDAR
