BEGIN:VCALENDAR
VERSION:2.0
PRODID:-//Squarespace Inc/Squarespace 6//v6//EN
BEGIN:VEVENT
UID:5c50ad9f4d7a9c41a9eba474@squarespace.com
DTSTAMP:20190129T194736Z
DTSTART:20190226T200000Z
DTEND:20190227T020000Z
SUMMARY:Super Sport Softball
END:VEVENT
END:VCALENDAR
