BEGIN:VCALENDAR
VERSION:2.0
PRODID:-//Squarespace Inc/Squarespace 6//v6//EN
BEGIN:VEVENT
UID:5c36d63888251b2faf2ee2a8@squarespace.com
DTSTAMP:20190110T052328Z
DTSTART:20190213T200000Z
DTEND:20190215T020000Z
SUMMARY:Class Photos/Student IDs
END:VEVENT
END:VCALENDAR
