BEGIN:VCALENDAR
VERSION:2.0
PRODID:-//Squarespace Inc/Squarespace 6//v6//EN
BEGIN:VEVENT
UID:5bd227afc83025f3ab58c197@squarespace.com
DTSTAMP:20181025T203007Z
DTSTART:20181217T030000Z
DTEND:20181217T040000Z
SUMMARY:Second Hand Uniform Sale
END:VEVENT
END:VCALENDAR
