BEGIN:VCALENDAR
VERSION:2.0
PRODID:-//Squarespace Inc/Squarespace 6//v6//EN
BEGIN:VEVENT
UID:5bc3ae6415fcc00e13b61896@squarespace.com
DTSTAMP:20181014T210159Z
DTSTART:20181210T200000Z
DTEND:20181211T020000Z
SUMMARY:Team Trips - Arataki/Kahukura/Ikatere
END:VEVENT
END:VCALENDAR
